BEGIN:VCALENDAR
VERSION:2.0
PRODID:-//Cornerstone Lutheran Church - ECPv6.15.20//NONSGML v1.0//EN
CALSCALE:GREGORIAN
METHOD:PUBLISH
X-ORIGINAL-URL:https://cornerstonelutheran.church
X-WR-CALDESC:Events for Cornerstone Lutheran Church
REFRESH-INTERVAL;VALUE=DURATION:PT1H
X-Robots-Tag:noindex
X-PUBLISHED-TTL:PT1H
BEGIN:VTIMEZONE
TZID:America/Indiana/Indianapolis
BEGIN:DAYLIGHT
TZOFFSETFROM:-0500
TZOFFSETTO:-0400
TZNAME:EDT
DTSTART:20250309T070000
END:DAYLIGHT
BEGIN:STANDARD
TZOFFSETFROM:-0400
TZOFFSETTO:-0500
TZNAME:EST
DTSTART:20251102T060000
END:STANDARD
BEGIN:DAYLIGHT
TZOFFSETFROM:-0500
TZOFFSETTO:-0400
TZNAME:EDT
DTSTART:20260308T070000
END:DAYLIGHT
BEGIN:STANDARD
TZOFFSETFROM:-0400
TZOFFSETTO:-0500
TZNAME:EST
DTSTART:20261101T060000
END:STANDARD
BEGIN:DAYLIGHT
TZOFFSETFROM:-0500
TZOFFSETTO:-0400
TZNAME:EDT
DTSTART:20270314T070000
END:DAYLIGHT
BEGIN:STANDARD
TZOFFSETFROM:-0400
TZOFFSETTO:-0500
TZNAME:EST
DTSTART:20271107T060000
END:STANDARD
END:VTIMEZONE
BEGIN:VEVENT
DTSTART;TZID=America/Indiana/Indianapolis:20260423T130000
DTEND;TZID=America/Indiana/Indianapolis:20260423T150000
DTSTAMP:20260420T064307
CREATED:20260217T194933Z
LAST-MODIFIED:20260223T192551Z
UID:10003828-1776949200-1776956400@cornerstonelutheran.church
SUMMARY:GriefShare Support Group (Carmel)
DESCRIPTION:If you’ve lost a spouse\, child\, parent\, or friend\, it can be a hard and confusing time—you may feel isolated and have questions about things you’ve never faced before. Don’t go through it alone. Join a caring group of people that will walk alongside you through one of life’s most difficult experiences. \nTo register for this class\, call the church office at 317-814-4252\, or email info@cornerstonelutheran.church.
URL:https://cornerstonelutheran.church/event/griefshare-support-group-carmel-2/2026-04-23/
LOCATION:Carmel\, 4850 E Main Street\, Carmel\, IN\, 46033\, United States
CATEGORIES:Adults,Classes,Event
ATTACH;FMTTYPE=image/jpeg:https://cornerstonelutheran.church/wp-content/uploads/2025/01/Grief-Share-logo2.jpg
ORGANIZER;CN="Cornerstone":MAILTO:info@cornerstonelutheran.church
END:VEVENT
BEGIN:VEVENT
DTSTART;TZID=America/Indiana/Indianapolis:20260430T130000
DTEND;TZID=America/Indiana/Indianapolis:20260430T150000
DTSTAMP:20260420T064307
CREATED:20260217T194933Z
LAST-MODIFIED:20260223T192551Z
UID:10003829-1777554000-1777561200@cornerstonelutheran.church
SUMMARY:GriefShare Support Group (Carmel)
DESCRIPTION:If you’ve lost a spouse\, child\, parent\, or friend\, it can be a hard and confusing time—you may feel isolated and have questions about things you’ve never faced before. Don’t go through it alone. Join a caring group of people that will walk alongside you through one of life’s most difficult experiences. \nTo register for this class\, call the church office at 317-814-4252\, or email info@cornerstonelutheran.church.
URL:https://cornerstonelutheran.church/event/griefshare-support-group-carmel-2/2026-04-30/
LOCATION:Carmel\, 4850 E Main Street\, Carmel\, IN\, 46033\, United States
CATEGORIES:Adults,Classes,Event
ATTACH;FMTTYPE=image/jpeg:https://cornerstonelutheran.church/wp-content/uploads/2025/01/Grief-Share-logo2.jpg
ORGANIZER;CN="Cornerstone":MAILTO:info@cornerstonelutheran.church
END:VEVENT
BEGIN:VEVENT
DTSTART;TZID=America/Indiana/Indianapolis:20260507T130000
DTEND;TZID=America/Indiana/Indianapolis:20260507T150000
DTSTAMP:20260420T064307
CREATED:20260217T194933Z
LAST-MODIFIED:20260223T192551Z
UID:10003830-1778158800-1778166000@cornerstonelutheran.church
SUMMARY:GriefShare Support Group (Carmel)
DESCRIPTION:If you’ve lost a spouse\, child\, parent\, or friend\, it can be a hard and confusing time—you may feel isolated and have questions about things you’ve never faced before. Don’t go through it alone. Join a caring group of people that will walk alongside you through one of life’s most difficult experiences. \nTo register for this class\, call the church office at 317-814-4252\, or email info@cornerstonelutheran.church.
URL:https://cornerstonelutheran.church/event/griefshare-support-group-carmel-2/2026-05-07/
LOCATION:Carmel\, 4850 E Main Street\, Carmel\, IN\, 46033\, United States
CATEGORIES:Adults,Classes,Event
ATTACH;FMTTYPE=image/jpeg:https://cornerstonelutheran.church/wp-content/uploads/2025/01/Grief-Share-logo2.jpg
ORGANIZER;CN="Cornerstone":MAILTO:info@cornerstonelutheran.church
END:VEVENT
BEGIN:VEVENT
DTSTART;TZID=America/Indiana/Indianapolis:20260514T130000
DTEND;TZID=America/Indiana/Indianapolis:20260514T150000
DTSTAMP:20260420T064307
CREATED:20260217T194933Z
LAST-MODIFIED:20260223T192551Z
UID:10003831-1778763600-1778770800@cornerstonelutheran.church
SUMMARY:GriefShare Support Group (Carmel)
DESCRIPTION:If you’ve lost a spouse\, child\, parent\, or friend\, it can be a hard and confusing time—you may feel isolated and have questions about things you’ve never faced before. Don’t go through it alone. Join a caring group of people that will walk alongside you through one of life’s most difficult experiences. \nTo register for this class\, call the church office at 317-814-4252\, or email info@cornerstonelutheran.church.
URL:https://cornerstonelutheran.church/event/griefshare-support-group-carmel-2/2026-05-14/
LOCATION:Carmel\, 4850 E Main Street\, Carmel\, IN\, 46033\, United States
CATEGORIES:Adults,Classes,Event
ATTACH;FMTTYPE=image/jpeg:https://cornerstonelutheran.church/wp-content/uploads/2025/01/Grief-Share-logo2.jpg
ORGANIZER;CN="Cornerstone":MAILTO:info@cornerstonelutheran.church
END:VEVENT
BEGIN:VEVENT
DTSTART;TZID=America/Indiana/Indianapolis:20260521T130000
DTEND;TZID=America/Indiana/Indianapolis:20260521T150000
DTSTAMP:20260420T064307
CREATED:20260217T194933Z
LAST-MODIFIED:20260223T192551Z
UID:10003832-1779368400-1779375600@cornerstonelutheran.church
SUMMARY:GriefShare Support Group (Carmel)
DESCRIPTION:If you’ve lost a spouse\, child\, parent\, or friend\, it can be a hard and confusing time—you may feel isolated and have questions about things you’ve never faced before. Don’t go through it alone. Join a caring group of people that will walk alongside you through one of life’s most difficult experiences. \nTo register for this class\, call the church office at 317-814-4252\, or email info@cornerstonelutheran.church.
URL:https://cornerstonelutheran.church/event/griefshare-support-group-carmel-2/2026-05-21/
LOCATION:Carmel\, 4850 E Main Street\, Carmel\, IN\, 46033\, United States
CATEGORIES:Adults,Classes,Event
ATTACH;FMTTYPE=image/jpeg:https://cornerstonelutheran.church/wp-content/uploads/2025/01/Grief-Share-logo2.jpg
ORGANIZER;CN="Cornerstone":MAILTO:info@cornerstonelutheran.church
END:VEVENT
END:VCALENDAR