BEGIN:VCALENDAR
VERSION:2.0
PRODID:-//Cornerstone Lutheran Church - ECPv6.15.20//NONSGML v1.0//EN
CALSCALE:GREGORIAN
METHOD:PUBLISH
X-ORIGINAL-URL:https://cornerstonelutheran.church
X-WR-CALDESC:Events for Cornerstone Lutheran Church
REFRESH-INTERVAL;VALUE=DURATION:PT1H
X-Robots-Tag:noindex
X-PUBLISHED-TTL:PT1H
BEGIN:VTIMEZONE
TZID:America/Indiana/Indianapolis
BEGIN:DAYLIGHT
TZOFFSETFROM:-0500
TZOFFSETTO:-0400
TZNAME:EDT
DTSTART:20240310T070000
END:DAYLIGHT
BEGIN:STANDARD
TZOFFSETFROM:-0400
TZOFFSETTO:-0500
TZNAME:EST
DTSTART:20241103T060000
END:STANDARD
BEGIN:DAYLIGHT
TZOFFSETFROM:-0500
TZOFFSETTO:-0400
TZNAME:EDT
DTSTART:20250309T070000
END:DAYLIGHT
BEGIN:STANDARD
TZOFFSETFROM:-0400
TZOFFSETTO:-0500
TZNAME:EST
DTSTART:20251102T060000
END:STANDARD
BEGIN:DAYLIGHT
TZOFFSETFROM:-0500
TZOFFSETTO:-0400
TZNAME:EDT
DTSTART:20260308T070000
END:DAYLIGHT
BEGIN:STANDARD
TZOFFSETFROM:-0400
TZOFFSETTO:-0500
TZNAME:EST
DTSTART:20261101T060000
END:STANDARD
END:VTIMEZONE
BEGIN:VEVENT
DTSTART;TZID=America/Indiana/Indianapolis:20251023T113000
DTEND;TZID=America/Indiana/Indianapolis:20251023T130000
DTSTAMP:20260419T084143
CREATED:20251002T184842Z
LAST-MODIFIED:20251003T142808Z
UID:10000640-1761219000-1761224400@cornerstonelutheran.church
SUMMARY:Widow's Fellowship Lunch
DESCRIPTION:Join other widows once a month for breakfast or lunch. \nJoin us this month for lunch at Don Rigo’s Mexican Cuisine (7299 E 146th St\, Carmel). \nFor more information\, email info@cornerstonelutheran.church.
URL:https://cornerstonelutheran.church/event/widows-fellowship-lunch/
LOCATION:IN
CATEGORIES:Older Adults,Women
ATTACH;FMTTYPE=image/jpeg:https://cornerstonelutheran.church/wp-content/uploads/2025/01/widows-lunch2.jpg
ORGANIZER;CN="Cornerstone":MAILTO:info@cornerstonelutheran.church
END:VEVENT
BEGIN:VEVENT
DTSTART;TZID=America/Indiana/Indianapolis:20251020T060000
DTEND;TZID=America/Indiana/Indianapolis:20251020T200000
DTSTAMP:20260419T084143
CREATED:20251003T135520Z
LAST-MODIFIED:20251003T144646Z
UID:10003613-1760940000-1760990400@cornerstonelutheran.church
SUMMARY:Women's Fall Gathering
DESCRIPTION:We’re delighted to invite you and your best gals to the 2025 Cornerstone Women’s Ministry Fall Gathering at Spencer Winery in Noblesville. The gathering is a highly-anticipated annual event that gives Cornerstone women and their friends a space to engage in laughter\, sharing\, and fellowship with other women.  This ticketed event is $15 per person\, and includes one glass of wine\, snacks\, and a craft. Additional glasses of wine will be available for purchase.
URL:https://cornerstonelutheran.church/event/womens-fall-gathering/
LOCATION:Spencer Farms Winery\, 7015 E 161st St\, Noblesville\, IN\, 46062\, United States
CATEGORIES:Adults,Event,Women
ATTACH;FMTTYPE=image/png:https://cornerstonelutheran.church/wp-content/uploads/2024/10/Screenshot-2025-09-29-at-1.08.16-PM.png
ORGANIZER;CN="Kate Giger":MAILTO:kgiger@cornerstonelutheran.church
END:VEVENT
BEGIN:VEVENT
DTSTART;TZID=America/Indiana/Indianapolis:20251016T193000
DTEND;TZID=America/Indiana/Indianapolis:20251016T213000
DTSTAMP:20260419T084143
CREATED:20250123T204947Z
LAST-MODIFIED:20250429T191314Z
UID:10002864-1760643000-1760650200@cornerstonelutheran.church
SUMMARY:Coed Volleyball
DESCRIPTION:The Carmel Gym is open every Thursday night for Coed Volleyball. Bring a friend and come by to play!
URL:https://cornerstonelutheran.church/event/coed-volleyball-7/2025-10-16/
LOCATION:Carmel\, 4850 E Main Street\, Carmel\, IN\, 46033\, United States
CATEGORIES:Adults,Men,Recreation & Fitness,Women
ATTACH;FMTTYPE=image/png:https://cornerstonelutheran.church/wp-content/uploads/2025/01/volleyball.png
ORGANIZER;CN="Cornerstone":MAILTO:info@cornerstonelutheran.church
END:VEVENT
BEGIN:VEVENT
DTSTART;TZID=America/Indiana/Indianapolis:20251009T193000
DTEND;TZID=America/Indiana/Indianapolis:20251009T213000
DTSTAMP:20260419T084143
CREATED:20250123T204947Z
LAST-MODIFIED:20250429T191314Z
UID:10002863-1760038200-1760045400@cornerstonelutheran.church
SUMMARY:Coed Volleyball
DESCRIPTION:The Carmel Gym is open every Thursday night for Coed Volleyball. Bring a friend and come by to play!
URL:https://cornerstonelutheran.church/event/coed-volleyball-7/2025-10-09/
LOCATION:Carmel\, 4850 E Main Street\, Carmel\, IN\, 46033\, United States
CATEGORIES:Adults,Men,Recreation & Fitness,Women
ATTACH;FMTTYPE=image/png:https://cornerstonelutheran.church/wp-content/uploads/2025/01/volleyball.png
ORGANIZER;CN="Cornerstone":MAILTO:info@cornerstonelutheran.church
END:VEVENT
BEGIN:VEVENT
DTSTART;TZID=America/Indiana/Indianapolis:20251007T190000
DTEND;TZID=America/Indiana/Indianapolis:20251007T210000
DTSTAMP:20260419T084143
CREATED:20250626T144644Z
LAST-MODIFIED:20250626T144645Z
UID:10000528-1759863600-1759870800@cornerstonelutheran.church
SUMMARY:CLC Women's Book Club
DESCRIPTION:Every month\, our CLC Women’s Book Club discusses a different book (not necessarily “Christian-themed”). Join us any month for these lively book discussions! \nUPCOMING BOOKS: \n\n7/1/2025: A Girl Called Samson by Amy Harmon\n8/5/2025: The Women by Kristin Hannah\n9/2/2025: The Stranger in the Lifeboat by Mitch Albom\n10/7/2025: The Man Who Died Twice by Richard Osman\n11/4/2025: The Lost Girls of Willowbrook by Ellen Marie Wiseman\n12/9/2025: The Briar Club by Kate Quinn\n\nContact Debbie Salefski or Nancy Mills for more information by emailing info@cornerstonelutheran.church.
URL:https://cornerstonelutheran.church/event/womens-book-club-2/2025-10-07/
LOCATION:Carmel\, 4850 E Main Street\, Carmel\, IN\, 46033\, United States
CATEGORIES:Adults,Women
ATTACH;FMTTYPE=image/jpeg:https://cornerstonelutheran.church/wp-content/uploads/2025/01/Women-reading.jpg
ORGANIZER;CN="Cornerstone":MAILTO:info@cornerstonelutheran.church
END:VEVENT
BEGIN:VEVENT
DTSTART;TZID=America/Indiana/Indianapolis:20251002T193000
DTEND;TZID=America/Indiana/Indianapolis:20251002T213000
DTSTAMP:20260419T084143
CREATED:20250123T204947Z
LAST-MODIFIED:20250429T191314Z
UID:10002862-1759433400-1759440600@cornerstonelutheran.church
SUMMARY:Coed Volleyball
DESCRIPTION:The Carmel Gym is open every Thursday night for Coed Volleyball. Bring a friend and come by to play!
URL:https://cornerstonelutheran.church/event/coed-volleyball-7/2025-10-02/
LOCATION:Carmel\, 4850 E Main Street\, Carmel\, IN\, 46033\, United States
CATEGORIES:Adults,Men,Recreation & Fitness,Women
ATTACH;FMTTYPE=image/png:https://cornerstonelutheran.church/wp-content/uploads/2025/01/volleyball.png
ORGANIZER;CN="Cornerstone":MAILTO:info@cornerstonelutheran.church
END:VEVENT
BEGIN:VEVENT
DTSTART;TZID=America/Indiana/Indianapolis:20250925T193000
DTEND;TZID=America/Indiana/Indianapolis:20250925T213000
DTSTAMP:20260419T084143
CREATED:20250123T204947Z
LAST-MODIFIED:20250429T191314Z
UID:10002861-1758828600-1758835800@cornerstonelutheran.church
SUMMARY:Coed Volleyball
DESCRIPTION:The Carmel Gym is open every Thursday night for Coed Volleyball. Bring a friend and come by to play!
URL:https://cornerstonelutheran.church/event/coed-volleyball-7/2025-09-25/
LOCATION:Carmel\, 4850 E Main Street\, Carmel\, IN\, 46033\, United States
CATEGORIES:Adults,Men,Recreation & Fitness,Women
ATTACH;FMTTYPE=image/png:https://cornerstonelutheran.church/wp-content/uploads/2025/01/volleyball.png
ORGANIZER;CN="Cornerstone":MAILTO:info@cornerstonelutheran.church
END:VEVENT
BEGIN:VEVENT
DTSTART;TZID=America/Indiana/Indianapolis:20250918T193000
DTEND;TZID=America/Indiana/Indianapolis:20250918T213000
DTSTAMP:20260419T084143
CREATED:20250123T204947Z
LAST-MODIFIED:20250429T191314Z
UID:10002860-1758223800-1758231000@cornerstonelutheran.church
SUMMARY:Coed Volleyball
DESCRIPTION:The Carmel Gym is open every Thursday night for Coed Volleyball. Bring a friend and come by to play!
URL:https://cornerstonelutheran.church/event/coed-volleyball-7/2025-09-18/
LOCATION:Carmel\, 4850 E Main Street\, Carmel\, IN\, 46033\, United States
CATEGORIES:Adults,Men,Recreation & Fitness,Women
ATTACH;FMTTYPE=image/png:https://cornerstonelutheran.church/wp-content/uploads/2025/01/volleyball.png
ORGANIZER;CN="Cornerstone":MAILTO:info@cornerstonelutheran.church
END:VEVENT
BEGIN:VEVENT
DTSTART;TZID=America/Indiana/Indianapolis:20250911T193000
DTEND;TZID=America/Indiana/Indianapolis:20250911T213000
DTSTAMP:20260419T084143
CREATED:20250123T204947Z
LAST-MODIFIED:20250429T191314Z
UID:10002859-1757619000-1757626200@cornerstonelutheran.church
SUMMARY:Coed Volleyball
DESCRIPTION:The Carmel Gym is open every Thursday night for Coed Volleyball. Bring a friend and come by to play!
URL:https://cornerstonelutheran.church/event/coed-volleyball-7/2025-09-11/
LOCATION:Carmel\, 4850 E Main Street\, Carmel\, IN\, 46033\, United States
CATEGORIES:Adults,Men,Recreation & Fitness,Women
ATTACH;FMTTYPE=image/png:https://cornerstonelutheran.church/wp-content/uploads/2025/01/volleyball.png
ORGANIZER;CN="Cornerstone":MAILTO:info@cornerstonelutheran.church
END:VEVENT
BEGIN:VEVENT
DTSTART;TZID=America/Indiana/Indianapolis:20250904T193000
DTEND;TZID=America/Indiana/Indianapolis:20250904T213000
DTSTAMP:20260419T084143
CREATED:20250123T204947Z
LAST-MODIFIED:20250429T191314Z
UID:10002858-1757014200-1757021400@cornerstonelutheran.church
SUMMARY:Coed Volleyball
DESCRIPTION:The Carmel Gym is open every Thursday night for Coed Volleyball. Bring a friend and come by to play!
URL:https://cornerstonelutheran.church/event/coed-volleyball-7/2025-09-04/
LOCATION:Carmel\, 4850 E Main Street\, Carmel\, IN\, 46033\, United States
CATEGORIES:Adults,Men,Recreation & Fitness,Women
ATTACH;FMTTYPE=image/png:https://cornerstonelutheran.church/wp-content/uploads/2025/01/volleyball.png
ORGANIZER;CN="Cornerstone":MAILTO:info@cornerstonelutheran.church
END:VEVENT
BEGIN:VEVENT
DTSTART;TZID=America/Indiana/Indianapolis:20250902T190000
DTEND;TZID=America/Indiana/Indianapolis:20250902T210000
DTSTAMP:20260419T084143
CREATED:20250626T144644Z
LAST-MODIFIED:20250626T144645Z
UID:10000527-1756839600-1756846800@cornerstonelutheran.church
SUMMARY:CLC Women's Book Club
DESCRIPTION:Every month\, our CLC Women’s Book Club discusses a different book (not necessarily “Christian-themed”). Join us any month for these lively book discussions! \nUPCOMING BOOKS: \n\n7/1/2025: A Girl Called Samson by Amy Harmon\n8/5/2025: The Women by Kristin Hannah\n9/2/2025: The Stranger in the Lifeboat by Mitch Albom\n10/7/2025: The Man Who Died Twice by Richard Osman\n11/4/2025: The Lost Girls of Willowbrook by Ellen Marie Wiseman\n12/9/2025: The Briar Club by Kate Quinn\n\nContact Debbie Salefski or Nancy Mills for more information by emailing info@cornerstonelutheran.church.
URL:https://cornerstonelutheran.church/event/womens-book-club-2/2025-09-02/
LOCATION:Carmel\, 4850 E Main Street\, Carmel\, IN\, 46033\, United States
CATEGORIES:Adults,Women
ATTACH;FMTTYPE=image/jpeg:https://cornerstonelutheran.church/wp-content/uploads/2025/01/Women-reading.jpg
ORGANIZER;CN="Cornerstone":MAILTO:info@cornerstonelutheran.church
END:VEVENT
BEGIN:VEVENT
DTSTART;TZID=America/Indiana/Indianapolis:20250828T193000
DTEND;TZID=America/Indiana/Indianapolis:20250828T213000
DTSTAMP:20260419T084143
CREATED:20250123T204947Z
LAST-MODIFIED:20250429T191314Z
UID:10002857-1756409400-1756416600@cornerstonelutheran.church
SUMMARY:Coed Volleyball
DESCRIPTION:The Carmel Gym is open every Thursday night for Coed Volleyball. Bring a friend and come by to play!
URL:https://cornerstonelutheran.church/event/coed-volleyball-7/2025-08-28/
LOCATION:Carmel\, 4850 E Main Street\, Carmel\, IN\, 46033\, United States
CATEGORIES:Adults,Men,Recreation & Fitness,Women
ATTACH;FMTTYPE=image/png:https://cornerstonelutheran.church/wp-content/uploads/2025/01/volleyball.png
ORGANIZER;CN="Cornerstone":MAILTO:info@cornerstonelutheran.church
END:VEVENT
BEGIN:VEVENT
DTSTART;TZID=America/Indiana/Indianapolis:20250821T193000
DTEND;TZID=America/Indiana/Indianapolis:20250821T213000
DTSTAMP:20260419T084143
CREATED:20250123T204947Z
LAST-MODIFIED:20250429T191314Z
UID:10002856-1755804600-1755811800@cornerstonelutheran.church
SUMMARY:Coed Volleyball
DESCRIPTION:The Carmel Gym is open every Thursday night for Coed Volleyball. Bring a friend and come by to play!
URL:https://cornerstonelutheran.church/event/coed-volleyball-7/2025-08-21/
LOCATION:Carmel\, 4850 E Main Street\, Carmel\, IN\, 46033\, United States
CATEGORIES:Adults,Men,Recreation & Fitness,Women
ATTACH;FMTTYPE=image/png:https://cornerstonelutheran.church/wp-content/uploads/2025/01/volleyball.png
ORGANIZER;CN="Cornerstone":MAILTO:info@cornerstonelutheran.church
END:VEVENT
BEGIN:VEVENT
DTSTART;TZID=America/Indiana/Indianapolis:20250814T193000
DTEND;TZID=America/Indiana/Indianapolis:20250814T213000
DTSTAMP:20260419T084143
CREATED:20250123T204947Z
LAST-MODIFIED:20250429T191314Z
UID:10002855-1755199800-1755207000@cornerstonelutheran.church
SUMMARY:Coed Volleyball
DESCRIPTION:The Carmel Gym is open every Thursday night for Coed Volleyball. Bring a friend and come by to play!
URL:https://cornerstonelutheran.church/event/coed-volleyball-7/2025-08-14/
LOCATION:Carmel\, 4850 E Main Street\, Carmel\, IN\, 46033\, United States
CATEGORIES:Adults,Men,Recreation & Fitness,Women
ATTACH;FMTTYPE=image/png:https://cornerstonelutheran.church/wp-content/uploads/2025/01/volleyball.png
ORGANIZER;CN="Cornerstone":MAILTO:info@cornerstonelutheran.church
END:VEVENT
BEGIN:VEVENT
DTSTART;TZID=America/Indiana/Indianapolis:20250811T190000
DTEND;TZID=America/Indiana/Indianapolis:20250811T203000
DTSTAMP:20260419T084143
CREATED:20250603T194257Z
LAST-MODIFIED:20250603T194257Z
UID:10003211-1754938800-1754944200@cornerstonelutheran.church
SUMMARY:Oktoberfest Planning Meeting
DESCRIPTION:Do you like planning parties? This is a fun one! Be part of the planning of this yearly event at our Carmel site. (Oktoberfest is September 26.) For more information\, email info@cornerstonelutheran.church.
URL:https://cornerstonelutheran.church/event/oktoberfest-planning-meeting-3/
LOCATION:Carmel\, 4850 E Main Street\, Carmel\, IN\, 46033\, United States
CATEGORIES:Adults,Event,Men,Volunteer,Women
ATTACH;FMTTYPE=image/jpeg:https://cornerstonelutheran.church/wp-content/uploads/2024/08/Oktoberfest-volunteers-scaled.jpg
ORGANIZER;CN="Cornerstone":MAILTO:info@cornerstonelutheran.church
END:VEVENT
BEGIN:VEVENT
DTSTART;TZID=America/Indiana/Indianapolis:20250807T193000
DTEND;TZID=America/Indiana/Indianapolis:20250807T213000
DTSTAMP:20260419T084143
CREATED:20250123T204947Z
LAST-MODIFIED:20250429T191314Z
UID:10002854-1754595000-1754602200@cornerstonelutheran.church
SUMMARY:Coed Volleyball
DESCRIPTION:The Carmel Gym is open every Thursday night for Coed Volleyball. Bring a friend and come by to play!
URL:https://cornerstonelutheran.church/event/coed-volleyball-7/2025-08-07/
LOCATION:Carmel\, 4850 E Main Street\, Carmel\, IN\, 46033\, United States
CATEGORIES:Adults,Men,Recreation & Fitness,Women
ATTACH;FMTTYPE=image/png:https://cornerstonelutheran.church/wp-content/uploads/2025/01/volleyball.png
ORGANIZER;CN="Cornerstone":MAILTO:info@cornerstonelutheran.church
END:VEVENT
BEGIN:VEVENT
DTSTART;TZID=America/Indiana/Indianapolis:20250805T190000
DTEND;TZID=America/Indiana/Indianapolis:20250805T210000
DTSTAMP:20260419T084143
CREATED:20250626T144644Z
LAST-MODIFIED:20250626T144645Z
UID:10000526-1754420400-1754427600@cornerstonelutheran.church
SUMMARY:CLC Women's Book Club
DESCRIPTION:Every month\, our CLC Women’s Book Club discusses a different book (not necessarily “Christian-themed”). Join us any month for these lively book discussions! \nUPCOMING BOOKS: \n\n7/1/2025: A Girl Called Samson by Amy Harmon\n8/5/2025: The Women by Kristin Hannah\n9/2/2025: The Stranger in the Lifeboat by Mitch Albom\n10/7/2025: The Man Who Died Twice by Richard Osman\n11/4/2025: The Lost Girls of Willowbrook by Ellen Marie Wiseman\n12/9/2025: The Briar Club by Kate Quinn\n\nContact Debbie Salefski or Nancy Mills for more information by emailing info@cornerstonelutheran.church.
URL:https://cornerstonelutheran.church/event/womens-book-club-2/2025-08-05/
LOCATION:Carmel\, 4850 E Main Street\, Carmel\, IN\, 46033\, United States
CATEGORIES:Adults,Women
ATTACH;FMTTYPE=image/jpeg:https://cornerstonelutheran.church/wp-content/uploads/2025/01/Women-reading.jpg
ORGANIZER;CN="Cornerstone":MAILTO:info@cornerstonelutheran.church
END:VEVENT
BEGIN:VEVENT
DTSTART;TZID=America/Indiana/Indianapolis:20250731T193000
DTEND;TZID=America/Indiana/Indianapolis:20250731T213000
DTSTAMP:20260419T084143
CREATED:20250123T204947Z
LAST-MODIFIED:20250429T191314Z
UID:10002853-1753990200-1753997400@cornerstonelutheran.church
SUMMARY:Coed Volleyball
DESCRIPTION:The Carmel Gym is open every Thursday night for Coed Volleyball. Bring a friend and come by to play!
URL:https://cornerstonelutheran.church/event/coed-volleyball-7/2025-07-31/
LOCATION:Carmel\, 4850 E Main Street\, Carmel\, IN\, 46033\, United States
CATEGORIES:Adults,Men,Recreation & Fitness,Women
ATTACH;FMTTYPE=image/png:https://cornerstonelutheran.church/wp-content/uploads/2025/01/volleyball.png
ORGANIZER;CN="Cornerstone":MAILTO:info@cornerstonelutheran.church
END:VEVENT
BEGIN:VEVENT
DTSTART;TZID=America/Indiana/Indianapolis:20250724T193000
DTEND;TZID=America/Indiana/Indianapolis:20250724T213000
DTSTAMP:20260419T084143
CREATED:20250123T204947Z
LAST-MODIFIED:20250429T191314Z
UID:10002852-1753385400-1753392600@cornerstonelutheran.church
SUMMARY:Coed Volleyball
DESCRIPTION:The Carmel Gym is open every Thursday night for Coed Volleyball. Bring a friend and come by to play!
URL:https://cornerstonelutheran.church/event/coed-volleyball-7/2025-07-24/
LOCATION:Carmel\, 4850 E Main Street\, Carmel\, IN\, 46033\, United States
CATEGORIES:Adults,Men,Recreation & Fitness,Women
ATTACH;FMTTYPE=image/png:https://cornerstonelutheran.church/wp-content/uploads/2025/01/volleyball.png
ORGANIZER;CN="Cornerstone":MAILTO:info@cornerstonelutheran.church
END:VEVENT
BEGIN:VEVENT
DTSTART;TZID=America/Indiana/Indianapolis:20250717T193000
DTEND;TZID=America/Indiana/Indianapolis:20250717T213000
DTSTAMP:20260419T084143
CREATED:20250123T204947Z
LAST-MODIFIED:20250429T191314Z
UID:10002851-1752780600-1752787800@cornerstonelutheran.church
SUMMARY:Coed Volleyball
DESCRIPTION:The Carmel Gym is open every Thursday night for Coed Volleyball. Bring a friend and come by to play!
URL:https://cornerstonelutheran.church/event/coed-volleyball-7/2025-07-17/
LOCATION:Carmel\, 4850 E Main Street\, Carmel\, IN\, 46033\, United States
CATEGORIES:Adults,Men,Recreation & Fitness,Women
ATTACH;FMTTYPE=image/png:https://cornerstonelutheran.church/wp-content/uploads/2025/01/volleyball.png
ORGANIZER;CN="Cornerstone":MAILTO:info@cornerstonelutheran.church
END:VEVENT
BEGIN:VEVENT
DTSTART;TZID=America/Indiana/Indianapolis:20250714T190000
DTEND;TZID=America/Indiana/Indianapolis:20250714T203000
DTSTAMP:20260419T084143
CREATED:20250603T194205Z
LAST-MODIFIED:20250603T194205Z
UID:10003210-1752519600-1752525000@cornerstonelutheran.church
SUMMARY:Oktoberfest Planning Meeting
DESCRIPTION:Do you like planning parties? This is a fun one! Be part of the planning of this yearly event at our Carmel site. (Oktoberfest is September 26.) For more information\, email info@cornerstonelutheran.church.
URL:https://cornerstonelutheran.church/event/oktoberfest-planning-meeting-2/
LOCATION:Carmel\, 4850 E Main Street\, Carmel\, IN\, 46033\, United States
CATEGORIES:Adults,Event,Men,Volunteer,Women
ATTACH;FMTTYPE=image/jpeg:https://cornerstonelutheran.church/wp-content/uploads/2024/08/Oktoberfest-volunteers-scaled.jpg
ORGANIZER;CN="Cornerstone":MAILTO:info@cornerstonelutheran.church
END:VEVENT
BEGIN:VEVENT
DTSTART;TZID=America/Indiana/Indianapolis:20250710T193000
DTEND;TZID=America/Indiana/Indianapolis:20250710T213000
DTSTAMP:20260419T084143
CREATED:20250123T204947Z
LAST-MODIFIED:20250429T191314Z
UID:10002850-1752175800-1752183000@cornerstonelutheran.church
SUMMARY:Coed Volleyball
DESCRIPTION:The Carmel Gym is open every Thursday night for Coed Volleyball. Bring a friend and come by to play!
URL:https://cornerstonelutheran.church/event/coed-volleyball-7/2025-07-10/
LOCATION:Carmel\, 4850 E Main Street\, Carmel\, IN\, 46033\, United States
CATEGORIES:Adults,Men,Recreation & Fitness,Women
ATTACH;FMTTYPE=image/png:https://cornerstonelutheran.church/wp-content/uploads/2025/01/volleyball.png
ORGANIZER;CN="Cornerstone":MAILTO:info@cornerstonelutheran.church
END:VEVENT
BEGIN:VEVENT
DTSTART;TZID=America/Indiana/Indianapolis:20250703T193000
DTEND;TZID=America/Indiana/Indianapolis:20250703T213000
DTSTAMP:20260419T084143
CREATED:20250123T204947Z
LAST-MODIFIED:20250429T191314Z
UID:10002849-1751571000-1751578200@cornerstonelutheran.church
SUMMARY:Coed Volleyball
DESCRIPTION:The Carmel Gym is open every Thursday night for Coed Volleyball. Bring a friend and come by to play!
URL:https://cornerstonelutheran.church/event/coed-volleyball-7/2025-07-03/
LOCATION:Carmel\, 4850 E Main Street\, Carmel\, IN\, 46033\, United States
CATEGORIES:Adults,Men,Recreation & Fitness,Women
ATTACH;FMTTYPE=image/png:https://cornerstonelutheran.church/wp-content/uploads/2025/01/volleyball.png
ORGANIZER;CN="Cornerstone":MAILTO:info@cornerstonelutheran.church
END:VEVENT
BEGIN:VEVENT
DTSTART;TZID=America/Indiana/Indianapolis:20250701T190000
DTEND;TZID=America/Indiana/Indianapolis:20250701T210000
DTSTAMP:20260419T084143
CREATED:20250626T144644Z
LAST-MODIFIED:20250626T144645Z
UID:10000525-1751396400-1751403600@cornerstonelutheran.church
SUMMARY:CLC Women's Book Club
DESCRIPTION:Every month\, our CLC Women’s Book Club discusses a different book (not necessarily “Christian-themed”). Join us any month for these lively book discussions! \nUPCOMING BOOKS: \n\n7/1/2025: A Girl Called Samson by Amy Harmon\n8/5/2025: The Women by Kristin Hannah\n9/2/2025: The Stranger in the Lifeboat by Mitch Albom\n10/7/2025: The Man Who Died Twice by Richard Osman\n11/4/2025: The Lost Girls of Willowbrook by Ellen Marie Wiseman\n12/9/2025: The Briar Club by Kate Quinn\n\nContact Debbie Salefski or Nancy Mills for more information by emailing info@cornerstonelutheran.church.
URL:https://cornerstonelutheran.church/event/womens-book-club-2/2025-07-01/
LOCATION:Carmel\, 4850 E Main Street\, Carmel\, IN\, 46033\, United States
CATEGORIES:Adults,Women
ATTACH;FMTTYPE=image/jpeg:https://cornerstonelutheran.church/wp-content/uploads/2025/01/Women-reading.jpg
ORGANIZER;CN="Cornerstone":MAILTO:info@cornerstonelutheran.church
END:VEVENT
BEGIN:VEVENT
DTSTART;TZID=America/Indiana/Indianapolis:20250628T100000
DTEND;TZID=America/Indiana/Indianapolis:20250628T120000
DTSTAMP:20260419T084143
CREATED:20250603T194604Z
LAST-MODIFIED:20250603T194604Z
UID:10003212-1751104800-1751112000@cornerstonelutheran.church
SUMMARY:Loss of a Spouse Seminar
DESCRIPTION:The death of a spouse brings a unique kind of pain. But help is here and hope is possible. To register\, email info@cornerstonelutheran.church.
URL:https://cornerstonelutheran.church/event/loss-of-a-spouse-seminar/
LOCATION:Carmel\, 4850 E Main Street\, Carmel\, IN\, 46033\, United States
CATEGORIES:Adults,Classes,Men,Older Adults,Women
ATTACH;FMTTYPE=image/png:https://cornerstonelutheran.church/wp-content/uploads/2025/06/loss-of-spouse.png
ORGANIZER;CN="Cornerstone":MAILTO:info@cornerstonelutheran.church
END:VEVENT
BEGIN:VEVENT
DTSTART;TZID=America/Indiana/Indianapolis:20250626T193000
DTEND;TZID=America/Indiana/Indianapolis:20250626T213000
DTSTAMP:20260419T084143
CREATED:20250123T204947Z
LAST-MODIFIED:20250429T191314Z
UID:10002848-1750966200-1750973400@cornerstonelutheran.church
SUMMARY:Coed Volleyball
DESCRIPTION:The Carmel Gym is open every Thursday night for Coed Volleyball. Bring a friend and come by to play!
URL:https://cornerstonelutheran.church/event/coed-volleyball-7/2025-06-26/
LOCATION:Carmel\, 4850 E Main Street\, Carmel\, IN\, 46033\, United States
CATEGORIES:Adults,Men,Recreation & Fitness,Women
ATTACH;FMTTYPE=image/png:https://cornerstonelutheran.church/wp-content/uploads/2025/01/volleyball.png
ORGANIZER;CN="Cornerstone":MAILTO:info@cornerstonelutheran.church
END:VEVENT
BEGIN:VEVENT
DTSTART;TZID=America/Indiana/Indianapolis:20250619T193000
DTEND;TZID=America/Indiana/Indianapolis:20250619T213000
DTSTAMP:20260419T084143
CREATED:20250123T204947Z
LAST-MODIFIED:20250429T191314Z
UID:10002847-1750361400-1750368600@cornerstonelutheran.church
SUMMARY:Coed Volleyball
DESCRIPTION:The Carmel Gym is open every Thursday night for Coed Volleyball. Bring a friend and come by to play!
URL:https://cornerstonelutheran.church/event/coed-volleyball-7/2025-06-19/
LOCATION:Carmel\, 4850 E Main Street\, Carmel\, IN\, 46033\, United States
CATEGORIES:Adults,Men,Recreation & Fitness,Women
ATTACH;FMTTYPE=image/png:https://cornerstonelutheran.church/wp-content/uploads/2025/01/volleyball.png
ORGANIZER;CN="Cornerstone":MAILTO:info@cornerstonelutheran.church
END:VEVENT
BEGIN:VEVENT
DTSTART;TZID=America/Indiana/Indianapolis:20250612T193000
DTEND;TZID=America/Indiana/Indianapolis:20250612T213000
DTSTAMP:20260419T084143
CREATED:20250123T204947Z
LAST-MODIFIED:20250429T191314Z
UID:10002846-1749756600-1749763800@cornerstonelutheran.church
SUMMARY:Coed Volleyball
DESCRIPTION:The Carmel Gym is open every Thursday night for Coed Volleyball. Bring a friend and come by to play!
URL:https://cornerstonelutheran.church/event/coed-volleyball-7/2025-06-12/
LOCATION:Carmel\, 4850 E Main Street\, Carmel\, IN\, 46033\, United States
CATEGORIES:Adults,Men,Recreation & Fitness,Women
ATTACH;FMTTYPE=image/png:https://cornerstonelutheran.church/wp-content/uploads/2025/01/volleyball.png
ORGANIZER;CN="Cornerstone":MAILTO:info@cornerstonelutheran.church
END:VEVENT
BEGIN:VEVENT
DTSTART;TZID=America/Indiana/Indianapolis:20250605T193000
DTEND;TZID=America/Indiana/Indianapolis:20250605T213000
DTSTAMP:20260419T084143
CREATED:20250123T204947Z
LAST-MODIFIED:20250429T191314Z
UID:10002845-1749151800-1749159000@cornerstonelutheran.church
SUMMARY:Coed Volleyball
DESCRIPTION:The Carmel Gym is open every Thursday night for Coed Volleyball. Bring a friend and come by to play!
URL:https://cornerstonelutheran.church/event/coed-volleyball-7/2025-06-05/
LOCATION:Carmel\, 4850 E Main Street\, Carmel\, IN\, 46033\, United States
CATEGORIES:Adults,Men,Recreation & Fitness,Women
ATTACH;FMTTYPE=image/png:https://cornerstonelutheran.church/wp-content/uploads/2025/01/volleyball.png
ORGANIZER;CN="Cornerstone":MAILTO:info@cornerstonelutheran.church
END:VEVENT
BEGIN:VEVENT
DTSTART;TZID=America/Indiana/Indianapolis:20250603T190000
DTEND;TZID=America/Indiana/Indianapolis:20250603T210000
DTSTAMP:20260419T084143
CREATED:20250110T192137Z
LAST-MODIFIED:20250123T195731Z
UID:10000524-1748977200-1748984400@cornerstonelutheran.church
SUMMARY:CLC Women's Book Club
DESCRIPTION:Every month our CLC Women’s Book Club discusses a different book (not necessarily “Christian themed”). Join us any month for these lively book discussions!  \nFor more information and their list of books\, email info@cornerstonelutheran.church. 
URL:https://cornerstonelutheran.church/event/womens-book-club/2025-06-03/
LOCATION:Carmel\, 4850 E Main Street\, Carmel\, IN\, 46033\, United States
CATEGORIES:Adults,Women
ATTACH;FMTTYPE=image/jpeg:https://cornerstonelutheran.church/wp-content/uploads/2025/01/Women-reading.jpg
ORGANIZER;CN="Cornerstone":MAILTO:info@cornerstonelutheran.church
END:VEVENT
END:VCALENDAR