BEGIN:VCALENDAR
VERSION:2.0
PRODID:-//Cornerstone Lutheran Church - ECPv6.15.20//NONSGML v1.0//EN
CALSCALE:GREGORIAN
METHOD:PUBLISH
X-WR-CALNAME:Cornerstone Lutheran Church
X-ORIGINAL-URL:https://cornerstonelutheran.church
X-WR-CALDESC:Events for Cornerstone Lutheran Church
REFRESH-INTERVAL;VALUE=DURATION:PT1H
X-Robots-Tag:noindex
X-PUBLISHED-TTL:PT1H
BEGIN:VTIMEZONE
TZID:America/Indiana/Indianapolis
BEGIN:DAYLIGHT
TZOFFSETFROM:-0500
TZOFFSETTO:-0400
TZNAME:EDT
DTSTART:20250309T070000
END:DAYLIGHT
BEGIN:STANDARD
TZOFFSETFROM:-0400
TZOFFSETTO:-0500
TZNAME:EST
DTSTART:20251102T060000
END:STANDARD
BEGIN:DAYLIGHT
TZOFFSETFROM:-0500
TZOFFSETTO:-0400
TZNAME:EDT
DTSTART:20260308T070000
END:DAYLIGHT
BEGIN:STANDARD
TZOFFSETFROM:-0400
TZOFFSETTO:-0500
TZNAME:EST
DTSTART:20261101T060000
END:STANDARD
BEGIN:DAYLIGHT
TZOFFSETFROM:-0500
TZOFFSETTO:-0400
TZNAME:EDT
DTSTART:20270314T070000
END:DAYLIGHT
BEGIN:STANDARD
TZOFFSETFROM:-0400
TZOFFSETTO:-0500
TZNAME:EST
DTSTART:20271107T060000
END:STANDARD
BEGIN:DAYLIGHT
TZOFFSETFROM:-0500
TZOFFSETTO:-0400
TZNAME:EDT
DTSTART:20280312T070000
END:DAYLIGHT
BEGIN:STANDARD
TZOFFSETFROM:-0400
TZOFFSETTO:-0500
TZNAME:EST
DTSTART:20281105T060000
END:STANDARD
END:VTIMEZONE
BEGIN:VEVENT
DTSTART;TZID=America/Indiana/Indianapolis:20260502T083000
DTEND;TZID=America/Indiana/Indianapolis:20260502T103000
DTSTAMP:20260419T102902
CREATED:20260217T195714Z
LAST-MODIFIED:20260217T195714Z
UID:10003957-1777710600-1777717800@cornerstonelutheran.church
SUMMARY:Donuts & Dads
DESCRIPTION:Hey dads! Bring the kids to Donuts & Dads at our Fishers Play Area\, on the 1st & 3rd Saturday mornings of the month! Dads and kids up to age 12\, both from our congregation and community\, are invited to this free event.
URL:https://cornerstonelutheran.church/event/donuts-dads-2/2026-05-02/
LOCATION:Fishers\, 13450 E 116th St\, Fishers\, IN\, 46037\, United States
CATEGORIES:Kids,Men
ATTACH;FMTTYPE=image/webp:https://cornerstonelutheran.church/wp-content/uploads/2025/03/0e14858723_1663696518_donutsanddads-w-words.webp
ORGANIZER;CN="Cornerstone":MAILTO:info@cornerstonelutheran.church
END:VEVENT
BEGIN:VEVENT
DTSTART;TZID=America/Indiana/Indianapolis:20260516T083000
DTEND;TZID=America/Indiana/Indianapolis:20260516T103000
DTSTAMP:20260419T102902
CREATED:20260217T195618Z
LAST-MODIFIED:20260217T195618Z
UID:10003836-1778920200-1778927400@cornerstonelutheran.church
SUMMARY:Donuts & Dads
DESCRIPTION:Hey dads! Bring the kids to Donuts & Dads at our Fishers Play Area\, on the 1st & 3rd Saturday mornings of the month! Dads and kids up to age 12\, both from our congregation and community\, are invited to this free event.
URL:https://cornerstonelutheran.church/event/donuts-dads/2026-05-16/
LOCATION:Fishers\, 13450 E 116th St\, Fishers\, IN\, 46037\, United States
CATEGORIES:Kids,Men
ATTACH;FMTTYPE=image/webp:https://cornerstonelutheran.church/wp-content/uploads/2025/03/0e14858723_1663696518_donutsanddads-w-words.webp
ORGANIZER;CN="Cornerstone":MAILTO:info@cornerstonelutheran.church
END:VEVENT
BEGIN:VEVENT
DTSTART;TZID=America/Indiana/Indianapolis:20260606T083000
DTEND;TZID=America/Indiana/Indianapolis:20260606T103000
DTSTAMP:20260419T102902
CREATED:20260217T195714Z
LAST-MODIFIED:20260217T195714Z
UID:10003958-1780734600-1780741800@cornerstonelutheran.church
SUMMARY:Donuts & Dads
DESCRIPTION:Hey dads! Bring the kids to Donuts & Dads at our Fishers Play Area\, on the 1st & 3rd Saturday mornings of the month! Dads and kids up to age 12\, both from our congregation and community\, are invited to this free event.
URL:https://cornerstonelutheran.church/event/donuts-dads-2/2026-06-06/
LOCATION:Fishers\, 13450 E 116th St\, Fishers\, IN\, 46037\, United States
CATEGORIES:Kids,Men
ATTACH;FMTTYPE=image/webp:https://cornerstonelutheran.church/wp-content/uploads/2025/03/0e14858723_1663696518_donutsanddads-w-words.webp
ORGANIZER;CN="Cornerstone":MAILTO:info@cornerstonelutheran.church
END:VEVENT
BEGIN:VEVENT
DTSTART;TZID=America/Indiana/Indianapolis:20260620T083000
DTEND;TZID=America/Indiana/Indianapolis:20260620T103000
DTSTAMP:20260419T102902
CREATED:20260217T195618Z
LAST-MODIFIED:20260217T195618Z
UID:10003837-1781944200-1781951400@cornerstonelutheran.church
SUMMARY:Donuts & Dads
DESCRIPTION:Hey dads! Bring the kids to Donuts & Dads at our Fishers Play Area\, on the 1st & 3rd Saturday mornings of the month! Dads and kids up to age 12\, both from our congregation and community\, are invited to this free event.
URL:https://cornerstonelutheran.church/event/donuts-dads/2026-06-20/
LOCATION:Fishers\, 13450 E 116th St\, Fishers\, IN\, 46037\, United States
CATEGORIES:Kids,Men
ATTACH;FMTTYPE=image/webp:https://cornerstonelutheran.church/wp-content/uploads/2025/03/0e14858723_1663696518_donutsanddads-w-words.webp
ORGANIZER;CN="Cornerstone":MAILTO:info@cornerstonelutheran.church
END:VEVENT
BEGIN:VEVENT
DTSTART;TZID=America/Indiana/Indianapolis:20260704T083000
DTEND;TZID=America/Indiana/Indianapolis:20260704T103000
DTSTAMP:20260419T102902
CREATED:20260217T195714Z
LAST-MODIFIED:20260217T195714Z
UID:10003959-1783153800-1783161000@cornerstonelutheran.church
SUMMARY:Donuts & Dads
DESCRIPTION:Hey dads! Bring the kids to Donuts & Dads at our Fishers Play Area\, on the 1st & 3rd Saturday mornings of the month! Dads and kids up to age 12\, both from our congregation and community\, are invited to this free event.
URL:https://cornerstonelutheran.church/event/donuts-dads-2/2026-07-04/
LOCATION:Fishers\, 13450 E 116th St\, Fishers\, IN\, 46037\, United States
CATEGORIES:Kids,Men
ATTACH;FMTTYPE=image/webp:https://cornerstonelutheran.church/wp-content/uploads/2025/03/0e14858723_1663696518_donutsanddads-w-words.webp
ORGANIZER;CN="Cornerstone":MAILTO:info@cornerstonelutheran.church
END:VEVENT
BEGIN:VEVENT
DTSTART;TZID=America/Indiana/Indianapolis:20260718T083000
DTEND;TZID=America/Indiana/Indianapolis:20260718T103000
DTSTAMP:20260419T102902
CREATED:20260217T195618Z
LAST-MODIFIED:20260217T195618Z
UID:10003838-1784363400-1784370600@cornerstonelutheran.church
SUMMARY:Donuts & Dads
DESCRIPTION:Hey dads! Bring the kids to Donuts & Dads at our Fishers Play Area\, on the 1st & 3rd Saturday mornings of the month! Dads and kids up to age 12\, both from our congregation and community\, are invited to this free event.
URL:https://cornerstonelutheran.church/event/donuts-dads/2026-07-18/
LOCATION:Fishers\, 13450 E 116th St\, Fishers\, IN\, 46037\, United States
CATEGORIES:Kids,Men
ATTACH;FMTTYPE=image/webp:https://cornerstonelutheran.church/wp-content/uploads/2025/03/0e14858723_1663696518_donutsanddads-w-words.webp
ORGANIZER;CN="Cornerstone":MAILTO:info@cornerstonelutheran.church
END:VEVENT
BEGIN:VEVENT
DTSTART;TZID=America/Indiana/Indianapolis:20260801T083000
DTEND;TZID=America/Indiana/Indianapolis:20260801T103000
DTSTAMP:20260419T102902
CREATED:20260217T195714Z
LAST-MODIFIED:20260217T195714Z
UID:10003960-1785573000-1785580200@cornerstonelutheran.church
SUMMARY:Donuts & Dads
DESCRIPTION:Hey dads! Bring the kids to Donuts & Dads at our Fishers Play Area\, on the 1st & 3rd Saturday mornings of the month! Dads and kids up to age 12\, both from our congregation and community\, are invited to this free event.
URL:https://cornerstonelutheran.church/event/donuts-dads-2/2026-08-01/
LOCATION:Fishers\, 13450 E 116th St\, Fishers\, IN\, 46037\, United States
CATEGORIES:Kids,Men
ATTACH;FMTTYPE=image/webp:https://cornerstonelutheran.church/wp-content/uploads/2025/03/0e14858723_1663696518_donutsanddads-w-words.webp
ORGANIZER;CN="Cornerstone":MAILTO:info@cornerstonelutheran.church
END:VEVENT
BEGIN:VEVENT
DTSTART;TZID=America/Indiana/Indianapolis:20260815T083000
DTEND;TZID=America/Indiana/Indianapolis:20260815T103000
DTSTAMP:20260419T102902
CREATED:20260217T195618Z
LAST-MODIFIED:20260217T195618Z
UID:10003839-1786782600-1786789800@cornerstonelutheran.church
SUMMARY:Donuts & Dads
DESCRIPTION:Hey dads! Bring the kids to Donuts & Dads at our Fishers Play Area\, on the 1st & 3rd Saturday mornings of the month! Dads and kids up to age 12\, both from our congregation and community\, are invited to this free event.
URL:https://cornerstonelutheran.church/event/donuts-dads/2026-08-15/
LOCATION:Fishers\, 13450 E 116th St\, Fishers\, IN\, 46037\, United States
CATEGORIES:Kids,Men
ATTACH;FMTTYPE=image/webp:https://cornerstonelutheran.church/wp-content/uploads/2025/03/0e14858723_1663696518_donutsanddads-w-words.webp
ORGANIZER;CN="Cornerstone":MAILTO:info@cornerstonelutheran.church
END:VEVENT
BEGIN:VEVENT
DTSTART;TZID=America/Indiana/Indianapolis:20260905T083000
DTEND;TZID=America/Indiana/Indianapolis:20260905T103000
DTSTAMP:20260419T102902
CREATED:20260217T195714Z
LAST-MODIFIED:20260217T195714Z
UID:10003961-1788597000-1788604200@cornerstonelutheran.church
SUMMARY:Donuts & Dads
DESCRIPTION:Hey dads! Bring the kids to Donuts & Dads at our Fishers Play Area\, on the 1st & 3rd Saturday mornings of the month! Dads and kids up to age 12\, both from our congregation and community\, are invited to this free event.
URL:https://cornerstonelutheran.church/event/donuts-dads-2/2026-09-05/
LOCATION:Fishers\, 13450 E 116th St\, Fishers\, IN\, 46037\, United States
CATEGORIES:Kids,Men
ATTACH;FMTTYPE=image/webp:https://cornerstonelutheran.church/wp-content/uploads/2025/03/0e14858723_1663696518_donutsanddads-w-words.webp
ORGANIZER;CN="Cornerstone":MAILTO:info@cornerstonelutheran.church
END:VEVENT
BEGIN:VEVENT
DTSTART;TZID=America/Indiana/Indianapolis:20260919T083000
DTEND;TZID=America/Indiana/Indianapolis:20260919T103000
DTSTAMP:20260419T102902
CREATED:20260217T195618Z
LAST-MODIFIED:20260217T195618Z
UID:10003840-1789806600-1789813800@cornerstonelutheran.church
SUMMARY:Donuts & Dads
DESCRIPTION:Hey dads! Bring the kids to Donuts & Dads at our Fishers Play Area\, on the 1st & 3rd Saturday mornings of the month! Dads and kids up to age 12\, both from our congregation and community\, are invited to this free event.
URL:https://cornerstonelutheran.church/event/donuts-dads/2026-09-19/
LOCATION:Fishers\, 13450 E 116th St\, Fishers\, IN\, 46037\, United States
CATEGORIES:Kids,Men
ATTACH;FMTTYPE=image/webp:https://cornerstonelutheran.church/wp-content/uploads/2025/03/0e14858723_1663696518_donutsanddads-w-words.webp
ORGANIZER;CN="Cornerstone":MAILTO:info@cornerstonelutheran.church
END:VEVENT
BEGIN:VEVENT
DTSTART;TZID=America/Indiana/Indianapolis:20261003T083000
DTEND;TZID=America/Indiana/Indianapolis:20261003T103000
DTSTAMP:20260419T102902
CREATED:20260217T195714Z
LAST-MODIFIED:20260217T195714Z
UID:10003962-1791016200-1791023400@cornerstonelutheran.church
SUMMARY:Donuts & Dads
DESCRIPTION:Hey dads! Bring the kids to Donuts & Dads at our Fishers Play Area\, on the 1st & 3rd Saturday mornings of the month! Dads and kids up to age 12\, both from our congregation and community\, are invited to this free event.
URL:https://cornerstonelutheran.church/event/donuts-dads-2/2026-10-03/
LOCATION:Fishers\, 13450 E 116th St\, Fishers\, IN\, 46037\, United States
CATEGORIES:Kids,Men
ATTACH;FMTTYPE=image/webp:https://cornerstonelutheran.church/wp-content/uploads/2025/03/0e14858723_1663696518_donutsanddads-w-words.webp
ORGANIZER;CN="Cornerstone":MAILTO:info@cornerstonelutheran.church
END:VEVENT
BEGIN:VEVENT
DTSTART;TZID=America/Indiana/Indianapolis:20261017T083000
DTEND;TZID=America/Indiana/Indianapolis:20261017T103000
DTSTAMP:20260419T102902
CREATED:20260217T195618Z
LAST-MODIFIED:20260217T195618Z
UID:10003841-1792225800-1792233000@cornerstonelutheran.church
SUMMARY:Donuts & Dads
DESCRIPTION:Hey dads! Bring the kids to Donuts & Dads at our Fishers Play Area\, on the 1st & 3rd Saturday mornings of the month! Dads and kids up to age 12\, both from our congregation and community\, are invited to this free event.
URL:https://cornerstonelutheran.church/event/donuts-dads/2026-10-17/
LOCATION:Fishers\, 13450 E 116th St\, Fishers\, IN\, 46037\, United States
CATEGORIES:Kids,Men
ATTACH;FMTTYPE=image/webp:https://cornerstonelutheran.church/wp-content/uploads/2025/03/0e14858723_1663696518_donutsanddads-w-words.webp
ORGANIZER;CN="Cornerstone":MAILTO:info@cornerstonelutheran.church
END:VEVENT
BEGIN:VEVENT
DTSTART;TZID=America/Indiana/Indianapolis:20261107T083000
DTEND;TZID=America/Indiana/Indianapolis:20261107T103000
DTSTAMP:20260419T102902
CREATED:20260217T195714Z
LAST-MODIFIED:20260217T195714Z
UID:10003963-1794040200-1794047400@cornerstonelutheran.church
SUMMARY:Donuts & Dads
DESCRIPTION:Hey dads! Bring the kids to Donuts & Dads at our Fishers Play Area\, on the 1st & 3rd Saturday mornings of the month! Dads and kids up to age 12\, both from our congregation and community\, are invited to this free event.
URL:https://cornerstonelutheran.church/event/donuts-dads-2/2026-11-07/
LOCATION:Fishers\, 13450 E 116th St\, Fishers\, IN\, 46037\, United States
CATEGORIES:Kids,Men
ATTACH;FMTTYPE=image/webp:https://cornerstonelutheran.church/wp-content/uploads/2025/03/0e14858723_1663696518_donutsanddads-w-words.webp
ORGANIZER;CN="Cornerstone":MAILTO:info@cornerstonelutheran.church
END:VEVENT
BEGIN:VEVENT
DTSTART;TZID=America/Indiana/Indianapolis:20261121T083000
DTEND;TZID=America/Indiana/Indianapolis:20261121T103000
DTSTAMP:20260419T102902
CREATED:20260217T195618Z
LAST-MODIFIED:20260217T195618Z
UID:10003842-1795249800-1795257000@cornerstonelutheran.church
SUMMARY:Donuts & Dads
DESCRIPTION:Hey dads! Bring the kids to Donuts & Dads at our Fishers Play Area\, on the 1st & 3rd Saturday mornings of the month! Dads and kids up to age 12\, both from our congregation and community\, are invited to this free event.
URL:https://cornerstonelutheran.church/event/donuts-dads/2026-11-21/
LOCATION:Fishers\, 13450 E 116th St\, Fishers\, IN\, 46037\, United States
CATEGORIES:Kids,Men
ATTACH;FMTTYPE=image/webp:https://cornerstonelutheran.church/wp-content/uploads/2025/03/0e14858723_1663696518_donutsanddads-w-words.webp
ORGANIZER;CN="Cornerstone":MAILTO:info@cornerstonelutheran.church
END:VEVENT
BEGIN:VEVENT
DTSTART;TZID=America/Indiana/Indianapolis:20261205T083000
DTEND;TZID=America/Indiana/Indianapolis:20261205T103000
DTSTAMP:20260419T102902
CREATED:20260217T195714Z
LAST-MODIFIED:20260217T195714Z
UID:10003964-1796459400-1796466600@cornerstonelutheran.church
SUMMARY:Donuts & Dads
DESCRIPTION:Hey dads! Bring the kids to Donuts & Dads at our Fishers Play Area\, on the 1st & 3rd Saturday mornings of the month! Dads and kids up to age 12\, both from our congregation and community\, are invited to this free event.
URL:https://cornerstonelutheran.church/event/donuts-dads-2/2026-12-05/
LOCATION:Fishers\, 13450 E 116th St\, Fishers\, IN\, 46037\, United States
CATEGORIES:Kids,Men
ATTACH;FMTTYPE=image/webp:https://cornerstonelutheran.church/wp-content/uploads/2025/03/0e14858723_1663696518_donutsanddads-w-words.webp
ORGANIZER;CN="Cornerstone":MAILTO:info@cornerstonelutheran.church
END:VEVENT
BEGIN:VEVENT
DTSTART;TZID=America/Indiana/Indianapolis:20261219T083000
DTEND;TZID=America/Indiana/Indianapolis:20261219T103000
DTSTAMP:20260419T102902
CREATED:20260217T195618Z
LAST-MODIFIED:20260217T195618Z
UID:10003843-1797669000-1797676200@cornerstonelutheran.church
SUMMARY:Donuts & Dads
DESCRIPTION:Hey dads! Bring the kids to Donuts & Dads at our Fishers Play Area\, on the 1st & 3rd Saturday mornings of the month! Dads and kids up to age 12\, both from our congregation and community\, are invited to this free event.
URL:https://cornerstonelutheran.church/event/donuts-dads/2026-12-19/
LOCATION:Fishers\, 13450 E 116th St\, Fishers\, IN\, 46037\, United States
CATEGORIES:Kids,Men
ATTACH;FMTTYPE=image/webp:https://cornerstonelutheran.church/wp-content/uploads/2025/03/0e14858723_1663696518_donutsanddads-w-words.webp
ORGANIZER;CN="Cornerstone":MAILTO:info@cornerstonelutheran.church
END:VEVENT
BEGIN:VEVENT
DTSTART;TZID=America/Indiana/Indianapolis:20270102T083000
DTEND;TZID=America/Indiana/Indianapolis:20270102T103000
DTSTAMP:20260419T102902
CREATED:20260217T195714Z
LAST-MODIFIED:20260217T195714Z
UID:10003965-1798878600-1798885800@cornerstonelutheran.church
SUMMARY:Donuts & Dads
DESCRIPTION:Hey dads! Bring the kids to Donuts & Dads at our Fishers Play Area\, on the 1st & 3rd Saturday mornings of the month! Dads and kids up to age 12\, both from our congregation and community\, are invited to this free event.
URL:https://cornerstonelutheran.church/event/donuts-dads-2/2027-01-02/
LOCATION:Fishers\, 13450 E 116th St\, Fishers\, IN\, 46037\, United States
CATEGORIES:Kids,Men
ATTACH;FMTTYPE=image/webp:https://cornerstonelutheran.church/wp-content/uploads/2025/03/0e14858723_1663696518_donutsanddads-w-words.webp
ORGANIZER;CN="Cornerstone":MAILTO:info@cornerstonelutheran.church
END:VEVENT
BEGIN:VEVENT
DTSTART;TZID=America/Indiana/Indianapolis:20270116T083000
DTEND;TZID=America/Indiana/Indianapolis:20270116T103000
DTSTAMP:20260419T102902
CREATED:20260217T195618Z
LAST-MODIFIED:20260217T195618Z
UID:10003844-1800088200-1800095400@cornerstonelutheran.church
SUMMARY:Donuts & Dads
DESCRIPTION:Hey dads! Bring the kids to Donuts & Dads at our Fishers Play Area\, on the 1st & 3rd Saturday mornings of the month! Dads and kids up to age 12\, both from our congregation and community\, are invited to this free event.
URL:https://cornerstonelutheran.church/event/donuts-dads/2027-01-16/
LOCATION:Fishers\, 13450 E 116th St\, Fishers\, IN\, 46037\, United States
CATEGORIES:Kids,Men
ATTACH;FMTTYPE=image/webp:https://cornerstonelutheran.church/wp-content/uploads/2025/03/0e14858723_1663696518_donutsanddads-w-words.webp
ORGANIZER;CN="Cornerstone":MAILTO:info@cornerstonelutheran.church
END:VEVENT
BEGIN:VEVENT
DTSTART;TZID=America/Indiana/Indianapolis:20270206T083000
DTEND;TZID=America/Indiana/Indianapolis:20270206T103000
DTSTAMP:20260419T102902
CREATED:20260217T195714Z
LAST-MODIFIED:20260217T195714Z
UID:10003966-1801902600-1801909800@cornerstonelutheran.church
SUMMARY:Donuts & Dads
DESCRIPTION:Hey dads! Bring the kids to Donuts & Dads at our Fishers Play Area\, on the 1st & 3rd Saturday mornings of the month! Dads and kids up to age 12\, both from our congregation and community\, are invited to this free event.
URL:https://cornerstonelutheran.church/event/donuts-dads-2/2027-02-06/
LOCATION:Fishers\, 13450 E 116th St\, Fishers\, IN\, 46037\, United States
CATEGORIES:Kids,Men
ATTACH;FMTTYPE=image/webp:https://cornerstonelutheran.church/wp-content/uploads/2025/03/0e14858723_1663696518_donutsanddads-w-words.webp
ORGANIZER;CN="Cornerstone":MAILTO:info@cornerstonelutheran.church
END:VEVENT
BEGIN:VEVENT
DTSTART;TZID=America/Indiana/Indianapolis:20270220T083000
DTEND;TZID=America/Indiana/Indianapolis:20270220T103000
DTSTAMP:20260419T102902
CREATED:20260217T195618Z
LAST-MODIFIED:20260217T195618Z
UID:10003845-1803112200-1803119400@cornerstonelutheran.church
SUMMARY:Donuts & Dads
DESCRIPTION:Hey dads! Bring the kids to Donuts & Dads at our Fishers Play Area\, on the 1st & 3rd Saturday mornings of the month! Dads and kids up to age 12\, both from our congregation and community\, are invited to this free event.
URL:https://cornerstonelutheran.church/event/donuts-dads/2027-02-20/
LOCATION:Fishers\, 13450 E 116th St\, Fishers\, IN\, 46037\, United States
CATEGORIES:Kids,Men
ATTACH;FMTTYPE=image/webp:https://cornerstonelutheran.church/wp-content/uploads/2025/03/0e14858723_1663696518_donutsanddads-w-words.webp
ORGANIZER;CN="Cornerstone":MAILTO:info@cornerstonelutheran.church
END:VEVENT
BEGIN:VEVENT
DTSTART;TZID=America/Indiana/Indianapolis:20270306T083000
DTEND;TZID=America/Indiana/Indianapolis:20270306T103000
DTSTAMP:20260419T102902
CREATED:20260217T195714Z
LAST-MODIFIED:20260217T195714Z
UID:10003967-1804321800-1804329000@cornerstonelutheran.church
SUMMARY:Donuts & Dads
DESCRIPTION:Hey dads! Bring the kids to Donuts & Dads at our Fishers Play Area\, on the 1st & 3rd Saturday mornings of the month! Dads and kids up to age 12\, both from our congregation and community\, are invited to this free event.
URL:https://cornerstonelutheran.church/event/donuts-dads-2/2027-03-06/
LOCATION:Fishers\, 13450 E 116th St\, Fishers\, IN\, 46037\, United States
CATEGORIES:Kids,Men
ATTACH;FMTTYPE=image/webp:https://cornerstonelutheran.church/wp-content/uploads/2025/03/0e14858723_1663696518_donutsanddads-w-words.webp
ORGANIZER;CN="Cornerstone":MAILTO:info@cornerstonelutheran.church
END:VEVENT
BEGIN:VEVENT
DTSTART;TZID=America/Indiana/Indianapolis:20270320T083000
DTEND;TZID=America/Indiana/Indianapolis:20270320T103000
DTSTAMP:20260419T102902
CREATED:20260217T195618Z
LAST-MODIFIED:20260217T195618Z
UID:10003846-1805531400-1805538600@cornerstonelutheran.church
SUMMARY:Donuts & Dads
DESCRIPTION:Hey dads! Bring the kids to Donuts & Dads at our Fishers Play Area\, on the 1st & 3rd Saturday mornings of the month! Dads and kids up to age 12\, both from our congregation and community\, are invited to this free event.
URL:https://cornerstonelutheran.church/event/donuts-dads/2027-03-20/
LOCATION:Fishers\, 13450 E 116th St\, Fishers\, IN\, 46037\, United States
CATEGORIES:Kids,Men
ATTACH;FMTTYPE=image/webp:https://cornerstonelutheran.church/wp-content/uploads/2025/03/0e14858723_1663696518_donutsanddads-w-words.webp
ORGANIZER;CN="Cornerstone":MAILTO:info@cornerstonelutheran.church
END:VEVENT
BEGIN:VEVENT
DTSTART;TZID=America/Indiana/Indianapolis:20270403T083000
DTEND;TZID=America/Indiana/Indianapolis:20270403T103000
DTSTAMP:20260419T102902
CREATED:20260217T195714Z
LAST-MODIFIED:20260217T195714Z
UID:10003968-1806741000-1806748200@cornerstonelutheran.church
SUMMARY:Donuts & Dads
DESCRIPTION:Hey dads! Bring the kids to Donuts & Dads at our Fishers Play Area\, on the 1st & 3rd Saturday mornings of the month! Dads and kids up to age 12\, both from our congregation and community\, are invited to this free event.
URL:https://cornerstonelutheran.church/event/donuts-dads-2/2027-04-03/
LOCATION:Fishers\, 13450 E 116th St\, Fishers\, IN\, 46037\, United States
CATEGORIES:Kids,Men
ATTACH;FMTTYPE=image/webp:https://cornerstonelutheran.church/wp-content/uploads/2025/03/0e14858723_1663696518_donutsanddads-w-words.webp
ORGANIZER;CN="Cornerstone":MAILTO:info@cornerstonelutheran.church
END:VEVENT
BEGIN:VEVENT
DTSTART;TZID=America/Indiana/Indianapolis:20270417T083000
DTEND;TZID=America/Indiana/Indianapolis:20270417T103000
DTSTAMP:20260419T102902
CREATED:20260217T195618Z
LAST-MODIFIED:20260217T195618Z
UID:10003847-1807950600-1807957800@cornerstonelutheran.church
SUMMARY:Donuts & Dads
DESCRIPTION:Hey dads! Bring the kids to Donuts & Dads at our Fishers Play Area\, on the 1st & 3rd Saturday mornings of the month! Dads and kids up to age 12\, both from our congregation and community\, are invited to this free event.
URL:https://cornerstonelutheran.church/event/donuts-dads/2027-04-17/
LOCATION:Fishers\, 13450 E 116th St\, Fishers\, IN\, 46037\, United States
CATEGORIES:Kids,Men
ATTACH;FMTTYPE=image/webp:https://cornerstonelutheran.church/wp-content/uploads/2025/03/0e14858723_1663696518_donutsanddads-w-words.webp
ORGANIZER;CN="Cornerstone":MAILTO:info@cornerstonelutheran.church
END:VEVENT
BEGIN:VEVENT
DTSTART;TZID=America/Indiana/Indianapolis:20270501T083000
DTEND;TZID=America/Indiana/Indianapolis:20270501T103000
DTSTAMP:20260419T102902
CREATED:20260217T195714Z
LAST-MODIFIED:20260217T195714Z
UID:10003969-1809160200-1809167400@cornerstonelutheran.church
SUMMARY:Donuts & Dads
DESCRIPTION:Hey dads! Bring the kids to Donuts & Dads at our Fishers Play Area\, on the 1st & 3rd Saturday mornings of the month! Dads and kids up to age 12\, both from our congregation and community\, are invited to this free event.
URL:https://cornerstonelutheran.church/event/donuts-dads-2/2027-05-01/
LOCATION:Fishers\, 13450 E 116th St\, Fishers\, IN\, 46037\, United States
CATEGORIES:Kids,Men
ATTACH;FMTTYPE=image/webp:https://cornerstonelutheran.church/wp-content/uploads/2025/03/0e14858723_1663696518_donutsanddads-w-words.webp
ORGANIZER;CN="Cornerstone":MAILTO:info@cornerstonelutheran.church
END:VEVENT
BEGIN:VEVENT
DTSTART;TZID=America/Indiana/Indianapolis:20270515T083000
DTEND;TZID=America/Indiana/Indianapolis:20270515T103000
DTSTAMP:20260419T102902
CREATED:20260217T195618Z
LAST-MODIFIED:20260217T195618Z
UID:10003848-1810369800-1810377000@cornerstonelutheran.church
SUMMARY:Donuts & Dads
DESCRIPTION:Hey dads! Bring the kids to Donuts & Dads at our Fishers Play Area\, on the 1st & 3rd Saturday mornings of the month! Dads and kids up to age 12\, both from our congregation and community\, are invited to this free event.
URL:https://cornerstonelutheran.church/event/donuts-dads/2027-05-15/
LOCATION:Fishers\, 13450 E 116th St\, Fishers\, IN\, 46037\, United States
CATEGORIES:Kids,Men
ATTACH;FMTTYPE=image/webp:https://cornerstonelutheran.church/wp-content/uploads/2025/03/0e14858723_1663696518_donutsanddads-w-words.webp
ORGANIZER;CN="Cornerstone":MAILTO:info@cornerstonelutheran.church
END:VEVENT
BEGIN:VEVENT
DTSTART;TZID=America/Indiana/Indianapolis:20270605T083000
DTEND;TZID=America/Indiana/Indianapolis:20270605T103000
DTSTAMP:20260419T102902
CREATED:20260217T195714Z
LAST-MODIFIED:20260217T195714Z
UID:10003970-1812184200-1812191400@cornerstonelutheran.church
SUMMARY:Donuts & Dads
DESCRIPTION:Hey dads! Bring the kids to Donuts & Dads at our Fishers Play Area\, on the 1st & 3rd Saturday mornings of the month! Dads and kids up to age 12\, both from our congregation and community\, are invited to this free event.
URL:https://cornerstonelutheran.church/event/donuts-dads-2/2027-06-05/
LOCATION:Fishers\, 13450 E 116th St\, Fishers\, IN\, 46037\, United States
CATEGORIES:Kids,Men
ATTACH;FMTTYPE=image/webp:https://cornerstonelutheran.church/wp-content/uploads/2025/03/0e14858723_1663696518_donutsanddads-w-words.webp
ORGANIZER;CN="Cornerstone":MAILTO:info@cornerstonelutheran.church
END:VEVENT
BEGIN:VEVENT
DTSTART;TZID=America/Indiana/Indianapolis:20270619T083000
DTEND;TZID=America/Indiana/Indianapolis:20270619T103000
DTSTAMP:20260419T102902
CREATED:20260217T195618Z
LAST-MODIFIED:20260217T195618Z
UID:10003849-1813393800-1813401000@cornerstonelutheran.church
SUMMARY:Donuts & Dads
DESCRIPTION:Hey dads! Bring the kids to Donuts & Dads at our Fishers Play Area\, on the 1st & 3rd Saturday mornings of the month! Dads and kids up to age 12\, both from our congregation and community\, are invited to this free event.
URL:https://cornerstonelutheran.church/event/donuts-dads/2027-06-19/
LOCATION:Fishers\, 13450 E 116th St\, Fishers\, IN\, 46037\, United States
CATEGORIES:Kids,Men
ATTACH;FMTTYPE=image/webp:https://cornerstonelutheran.church/wp-content/uploads/2025/03/0e14858723_1663696518_donutsanddads-w-words.webp
ORGANIZER;CN="Cornerstone":MAILTO:info@cornerstonelutheran.church
END:VEVENT
BEGIN:VEVENT
DTSTART;TZID=America/Indiana/Indianapolis:20270703T083000
DTEND;TZID=America/Indiana/Indianapolis:20270703T103000
DTSTAMP:20260419T102902
CREATED:20260217T195714Z
LAST-MODIFIED:20260217T195714Z
UID:10003971-1814603400-1814610600@cornerstonelutheran.church
SUMMARY:Donuts & Dads
DESCRIPTION:Hey dads! Bring the kids to Donuts & Dads at our Fishers Play Area\, on the 1st & 3rd Saturday mornings of the month! Dads and kids up to age 12\, both from our congregation and community\, are invited to this free event.
URL:https://cornerstonelutheran.church/event/donuts-dads-2/2027-07-03/
LOCATION:Fishers\, 13450 E 116th St\, Fishers\, IN\, 46037\, United States
CATEGORIES:Kids,Men
ATTACH;FMTTYPE=image/webp:https://cornerstonelutheran.church/wp-content/uploads/2025/03/0e14858723_1663696518_donutsanddads-w-words.webp
ORGANIZER;CN="Cornerstone":MAILTO:info@cornerstonelutheran.church
END:VEVENT
BEGIN:VEVENT
DTSTART;TZID=America/Indiana/Indianapolis:20270717T083000
DTEND;TZID=America/Indiana/Indianapolis:20270717T103000
DTSTAMP:20260419T102902
CREATED:20260217T195618Z
LAST-MODIFIED:20260217T195618Z
UID:10003850-1815813000-1815820200@cornerstonelutheran.church
SUMMARY:Donuts & Dads
DESCRIPTION:Hey dads! Bring the kids to Donuts & Dads at our Fishers Play Area\, on the 1st & 3rd Saturday mornings of the month! Dads and kids up to age 12\, both from our congregation and community\, are invited to this free event.
URL:https://cornerstonelutheran.church/event/donuts-dads/2027-07-17/
LOCATION:Fishers\, 13450 E 116th St\, Fishers\, IN\, 46037\, United States
CATEGORIES:Kids,Men
ATTACH;FMTTYPE=image/webp:https://cornerstonelutheran.church/wp-content/uploads/2025/03/0e14858723_1663696518_donutsanddads-w-words.webp
ORGANIZER;CN="Cornerstone":MAILTO:info@cornerstonelutheran.church
END:VEVENT
END:VCALENDAR